BEGIN:VCALENDAR
VERSION:2.0
PRODID:-//ChamberMaster//Event Calendar 2.0//EN
METHOD:PUBLISH
X-PUBLISHED-TTL:P3D
REFRESH-INTERVAL:P3D
CALSCALE:GREGORIAN
BEGIN:VEVENT
DTSTART:20260502T003000Z
DTEND:20260502T033000Z
X-MICROSOFT-CDO-ALLDAYEVENT:FALSE
SUMMARY:10th Annual Wild & Scenic Film Festival Hosted by Mountain Area Preservation - Night 1 at Alibi Aleworks - Truckee Public House
DESCRIPTION:Join Mountain Area Preservation (MAP) for the 10th Annual Wild & Scenic Film Festival - On Tour\, coming to Truckee\, CA\, for two nights in May. Get wild with MAP and award-winning\, inspiring films on May 1st and May 2nd at two different locations\, with two dynamic events for 2026! Mark your calendars for both nights - Friday\, May 1st\, from 5:30 to 8:30 p.m.\, night one\, hosted at Alibi Aleworks - Truckee Public House located in Historic Downtown Truckee\, and Saturday\, May 2nd\, from 5:30 to 8:30 pm\, hosted at Tahoe Donner Adventure Center.\n\n\n\nBoth nights will feature live entertainment\, a raffle with giveaways\, food\, and libations from our amazing venue hosts and community. MAP will also launch a silent auction the week of the event to support MAP's mission-driven environmental advocacy. Tickets go on sale on April 3rd\, and with only 100 seats at each venue\, we expect to sell out fast! Learn more about MAP's family-friendly signature event online.
X-ALT-DESC;FMTTYPE=text/html:Join Mountain Area Preservation (MAP) for the 10th Annual Wild &amp\; Scenic Film Festival - On Tour\, coming to Truckee\, CA\, for two nights in May. Get wild with MAP and award-winning\, inspiring films on May 1st and May 2nd at two different locations\, with two dynamic events for 2026! Mark your calendars for both nights - Friday\, May 1st\, from 5:30 to 8:30 p.m.\, night one\, hosted at Alibi Aleworks - Truckee Public House located in Historic Downtown Truckee\, and Saturday\, May 2nd\, from 5:30 to 8:30 pm\, hosted at Tahoe Donner Adventure Center.<br />\n<br />\nBoth nights will feature live entertainment\, a raffle with giveaways\, food\, and libations from our amazing venue hosts and community. MAP will also launch a silent auction the week of the event to support MAP&rsquo\;s mission-driven environmental advocacy. Tickets go on sale on April 3rd\, and with only 100 seats at each venue\, we expect to sell out fast! Learn more about MAP&rsquo\;s family-friendly signature event online.
LOCATION:Alibi Aleworks - Truckee Public House
UID:e.2339.83313
SEQUENCE:3
DTSTAMP:20260421T173123Z
URL:http://chamber.sdbxstudio.com/events/details/10th-annual-wild-scenic-film-festival-hosted-by-mountain-area-preservation-night-1-at-alibi-aleworks-truckee-public-house-83313
END:VEVENT

END:VCALENDAR
