BEGIN:VCALENDAR
VERSION:2.0
PRODID:-//ChamberMaster//Event Calendar 2.0//EN
METHOD:PUBLISH
X-PUBLISHED-TTL:P3D
REFRESH-INTERVAL:P3D
CALSCALE:GREGORIAN
BEGIN:VEVENT
DTSTART:20250816T000000Z
DTEND:20250816T043000Z
X-MICROSOFT-CDO-ALLDAYEVENT:FALSE
SUMMARY:15th Annual Sierra Forage Dinner
DESCRIPTION:MAP will host the 15th Annual Sierra Forage Dinner on Friday\, August 15th\, at Mitchell's Meadows\, north of Truckee. Don't miss out on your opportunity to celebrate 38 years of conservation in a magical setting with like-minded environmentalists and community champions who care about grassroots environmental advocacy for Truckee Tahoe.\n\n\n\nThe Sierra Forage Dinner brings together community\, conservation\, and good food and wine to raise critical funds so MAP can carry out its mission-driven work.
X-ALT-DESC;FMTTYPE=text/html:MAP will host the 15th Annual Sierra Forage Dinner on Friday\, August 15th\, at Mitchell&rsquo\;s Meadows\, north of Truckee. Don&rsquo\;t miss out on your opportunity to celebrate 38 years of conservation in a magical setting with like-minded environmentalists and community champions who care about grassroots environmental advocacy for Truckee Tahoe.<br />\n<br />\nThe Sierra Forage Dinner brings together community\, conservation\, and good food and wine to raise critical funds so MAP can carry out its mission-driven work.
LOCATION:Mitchell's Meadows\, 320 Independence Rd\, Sierraville. Shuttles will be provided.
UID:e.2339.80779
SEQUENCE:3
DTSTAMP:20260422T112335Z
URL:http://chamber.sdbxstudio.com/events/details/15th-annual-sierra-forage-dinner-80779
END:VEVENT

END:VCALENDAR
