BEGIN:VCALENDAR
VERSION:2.0
PRODID:-//ChamberMaster//Event Calendar 2.0//EN
METHOD:PUBLISH
X-PUBLISHED-TTL:P3D
REFRESH-INTERVAL:P3D
CALSCALE:GREGORIAN
BEGIN:VEVENT
DTSTART:20250830T220000Z
DTEND:20250831T010000Z
X-MICROSOFT-CDO-ALLDAYEVENT:FALSE
SUMMARY:Bocce\, Bites\, and Brews - Happy Hour at Stella\, Wednesday through Sunday
DESCRIPTION:Join us weekly for happy hour at our bocce and games garden from 3:00 - 6:00 p.m. Wednesday through Sunday! Local brews\, superb wine\, and internationally inspired California Cuisine coupled with bocce and cornhole. Bring your kiddos\, friends\, and family. We look forward to seeing you!
X-ALT-DESC;FMTTYPE=text/html:Join us weekly for happy hour at our bocce and games garden from 3:00 - 6:00 p.m. Wednesday through Sunday! Local brews\, superb wine\, and internationally inspired California Cuisine coupled with bocce and cornhole. Bring your kiddos\, friends\, and family. We look forward to seeing you!
LOCATION:Stella Truckee
UID:e.2339.81008
SEQUENCE:3
DTSTAMP:20260422T095250Z
URL:http://chamber.sdbxstudio.com/events/details/bocce-bites-and-brews-happy-hour-at-stella-wednesdaysthrough-sundays-08-30-2025-81008
END:VEVENT

END:VCALENDAR
