BEGIN:VCALENDAR
VERSION:2.0
PRODID:-//ChamberMaster//Event Calendar 2.0//EN
METHOD:PUBLISH
X-PUBLISHED-TTL:P3D
REFRESH-INTERVAL:P3D
CALSCALE:GREGORIAN
BEGIN:VEVENT
DTSTART:20250615T200000Z
DTEND:20250616T000000Z
X-MICROSOFT-CDO-ALLDAYEVENT:FALSE
SUMMARY:Charity Poker Tournament
DESCRIPTION:Charity poker tournament with *tons* of prizes. $54 buy-in. Complimentary food ticket with registration before May 25\, otherwise $18.\n\n\n\nPrizes include a stay at the Ritz Carlton\, kayak adventures\, Giants tickets\, ski lift packages\, and more! Ages 18+
X-ALT-DESC;FMTTYPE=text/html:Charity poker tournament with *tons* of prizes. $54 buy-in. Complimentary food ticket with registration before May 25\, otherwise $18.<br />\n<br />\nPrizes include a stay at the Ritz Carlton\, kayak adventures\, Giants tickets\, ski lift packages\, and more! Ages 18+
LOCATION:North Tahoe Hebrew Congregation
UID:e.2339.79818
SEQUENCE:3
DTSTAMP:20260422T142254Z
URL:http://chamber.sdbxstudio.com/events/details/charity-poker-tournament-79818
END:VEVENT

END:VCALENDAR
