BEGIN:VCALENDAR
VERSION:2.0
PRODID:-//ChamberMaster//Event Calendar 2.0//EN
METHOD:PUBLISH
X-PUBLISHED-TTL:P3D
REFRESH-INTERVAL:P3D
CALSCALE:GREGORIAN
BEGIN:VEVENT
DTSTART:20250801T170000Z
DTEND:20250801T200000Z
X-MICROSOFT-CDO-ALLDAYEVENT:FALSE
SUMMARY:Children's Entrepreneur Market
DESCRIPTION:The Children's Entrepreneur Market is a nonprofit organization created to give local kids an experience in business\, marketing\, and creativity. We are looking to hold a market on the day of an existing event such as Truckee Thursdays or the Truckee 5K and would need a space big enough to accomodate 50+ booths.
X-ALT-DESC;FMTTYPE=text/html:The Children&#39\;s Entrepreneur Market is a nonprofit organization created to give local kids an experience in business\, marketing\, and creativity. We are looking to hold a market on the day of an existing event such as Truckee Thursdays or the Truckee 5K and would need a space big enough to accomodate 50+ booths.
LOCATION:TBD
UID:e.2339.79610
SEQUENCE:3
DTSTAMP:20260422T113027Z
URL:http://chamber.sdbxstudio.com/events/details/children-s-entrepreneur-market-08-01-2025-79610
END:VEVENT

END:VCALENDAR
