BEGIN:VCALENDAR
VERSION:2.0
PRODID:-//ChamberMaster//Event Calendar 2.0//EN
METHOD:PUBLISH
X-PUBLISHED-TTL:P3D
REFRESH-INTERVAL:P3D
CALSCALE:GREGORIAN
BEGIN:VEVENT
DTSTART:20260519T163000Z
DTEND:20260519T180000Z
X-MICROSOFT-CDO-ALLDAYEVENT:FALSE
SUMMARY:Clear Kayak Tours Daily
DESCRIPTION:Experience Tahoe in Clear Kayaks from our beachfront location in Tahoe Vista\, California. We offer a fantastic clear kayak tour with stunning views of the High Sierra and crystal clear water. Your day begins with a lesson on land before heading out for a paddle. Along the way\, your guides will discuss geology\, ecology\, and other aspects of the natural world as well as fascinating human history topics.\n\n\n\nDepending on the lake's conditions\, you may paddle along the expansive shoreline of King's Beach or the picturesque coastline towards Carnelian Bay. As you float through the water\, the experience of the views through your clear kayak paired with the stunning views of the nearby peaks is unforgettable. Our tour is sure to leave you feeling inspired and rejuvenated as you take in the natural beauty and breathe in the fresh mountain air.\n\n\n\nClear Kayaks allow you to learn about the lake ecology up close with views of the rock formations through the incredibly clear water. This picturesque tour is sure to provide snapshots for the whole family!
X-ALT-DESC;FMTTYPE=text/html:Experience Tahoe in Clear Kayaks from our beachfront location in Tahoe Vista\, California. We offer a fantastic clear kayak tour with stunning views of the High Sierra and crystal clear water. Your day begins with a lesson on land before heading out for a paddle. Along the way\, your guides will discuss geology\, ecology\, and other aspects of the natural world as well as fascinating human history topics.<br />\n<br />\nDepending on the lake&#39\;s conditions\, you may paddle along the expansive shoreline of King&#39\;s Beach or the picturesque coastline towards Carnelian Bay. As you float through the water\, the experience of the views through your clear kayak paired with the stunning views of the nearby peaks is unforgettable. Our tour is sure to leave you feeling inspired and rejuvenated as you take in the natural beauty and breathe in the fresh mountain air.<br />\n<br />\nClear Kayaks allow you to learn about the lake ecology up close with views of the rock formations through the incredibly clear water. This picturesque tour is sure to provide snapshots for the whole family!
LOCATION:Tahoe Adventure Company Tahoe Vista Recreation Area 7010 North Lake Blvd Tahoe Vista\, CA 96148
UID:e.2339.83590
SEQUENCE:3
DTSTAMP:20260421T183624Z
URL:http://chamber.sdbxstudio.com/events/details/clear-kayak-tours-daily-05-19-2026-83590
END:VEVENT

END:VCALENDAR
