BEGIN:VCALENDAR
VERSION:2.0
PRODID:-//ChamberMaster//Event Calendar 2.0//EN
METHOD:PUBLISH
X-PUBLISHED-TTL:P3D
REFRESH-INTERVAL:P3D
CALSCALE:GREGORIAN
BEGIN:VEVENT
DTSTART:20251018T013000Z
DTEND:20251018T043000Z
X-MICROSOFT-CDO-ALLDAYEVENT:FALSE
SUMMARY:Cocktail Bingo
DESCRIPTION:Deemed "the unicorn" event of the year   if you don't go\, you don't know - this outrageous and boisterous event includes spontaneous dancing\, craft cocktails\, beer and wine\, and plenty of shenanigans. Every year\, businesses and residents can purchase tables\, donate\, participate and advertise through this one-of-a-kind evening. Featuring a DJ\, raffle prizes\, and an impromptu dance competition\, Cocktail Bingo is not your grandma's bingo game.\n\n\n\nEach person at the Table of 10 will receive 3 Bingo Game packets (8 games each). Plus the TABLE will have 3 extra Bingo Game Packets. For a total of 13 Bingo Game Packets. AND-we are going to through in a couple of Blackout cards!\n\n\n\nEvent to be held at the Community Arts Center Downtown Truckee\n\nTickets are sold ONLY as a TABLE of 10 people. You choose your pod to play with.
X-ALT-DESC;FMTTYPE=text/html:Deemed &ldquo\;the unicorn&rdquo\; event of the year &ndash\; if you don&rsquo\;t go\, you don&rsquo\;t know -&nbsp\;this outrageous and boisterous event includes spontaneous dancing\, craft cocktails\, beer and wine\, and plenty of shenanigans. Every year\, businesses and residents can purchase tables\, donate\, participate and advertise through this one-of-a-kind evening. Featuring a DJ\, raffle prizes\, and an impromptu dance competition\,&nbsp\;Cocktail Bingo is not your grandma&rsquo\;s bingo game.<br />\n<br />\nEach person at the Table of 10 will receive 3 Bingo Game packets (8 games each). Plus the TABLE will have 3 extra Bingo Game Packets. For a total of 13 Bingo Game Packets. AND-we are going to through in a couple of Blackout cards!<br />\n<br />\nEvent to be held at the&nbsp\;Community Arts Center Downtown Truckee<br />\nTickets are sold ONLY as a TABLE of 10 people. You choose your pod to play with.
LOCATION:Truckee Donner Recreation and Park District
UID:e.2339.76057
SEQUENCE:3
DTSTAMP:20260422T075941Z
URL:http://chamber.sdbxstudio.com/events/details/cocktail-bingo-76057
END:VEVENT

END:VCALENDAR
