BEGIN:VCALENDAR
VERSION:2.0
PRODID:-//ChamberMaster//Event Calendar 2.0//EN
METHOD:PUBLISH
X-PUBLISHED-TTL:P3D
REFRESH-INTERVAL:P3D
CALSCALE:GREGORIAN
BEGIN:VEVENT
DTSTART:20250822T003000Z
DTEND:20250822T020000Z
X-MICROSOFT-CDO-ALLDAYEVENT:FALSE
SUMMARY:Community Connections Event - Dr. Soraya M.D. Workshop
DESCRIPTION:Own Your Day\, Own Your Life: Morning-to-Evening Strategies to Energize\, Calm\, and Thrive\n\nTake charge of your well-being from the moment you wake up to the time you wind down. Join us for this inspiring and practical Community Connections workshop with Dr. Soraya\, M.D.\, as she shares simple exercises\, stretches\, breathing techniques\, and food choices to help you create more energy\, reduce stress\, and feel your best   all day long. Whether you're juggling work\, family\, or simply seeking to build better habits\, this session will empower you to take control of your routine and live with greater purpose and ease. Don't miss this chance to reset and recharge with expert guidance!\n\n\n\nPlease bring a yoga mat or a chair to sit on during relaxation. We'll have snacks and appetizers available. Please bring a water bottle. This event will be outside\, weather permitting.\n\n\n\nAbout your Speaker\nDr. Michelle Soraya Pourtabib\, MD\, comes from a long lineage of healers. Her great-great-grandfather\, great-grandfather\, and father were all physicians. Her last name translates to "child of a physician."  Before attending medical school\, Dr. Pourtabib was the founder/owner of Soraya Yoga\, Inc.\, a wellness company where she offered yoga\, pilates\, meditation\, ayurvedic massage\, and dance classes. Her calling to medicine came when her students continued to ask her for medical guidance on their ailments\, which sparked her desire to learn more about both Eastern and Western medicine. Dr. Pourtabib is double board-certified obesity (bariatric) and family medicine physician specializing in Functional Medicine. She has completed clinical rotations in Palm Springs\, CA\, with Dr. Steven Gundry at his Center for Restorative Medicine in Functional Medicine and with Dr. Ramy Awad at Desert Bariatrics in Bariatric Medicine and Surgery. She is on medical staff at Tahoe Forest Hospital in Truckee\, CA. Dr. Pourtabib is happy to serve as the only Board-Certified Obesity Medicine Specialist in North Lake Tahoe and the surrounding areas. https://www.sorayamd.com/
X-ALT-DESC;FMTTYPE=text/html:<span style="font-size:14px\;"><span style="font-family:arial\;"><span style="color:#000000\;"><strong data-end="233" data-start="141">Own Your Day\, Own Your Life: Morning-to-Evening Strategies to Energize\, Calm\, and Thrive</strong><br data-end="236" data-start="233" />\nTake charge of your well-being from the moment you wake up to the time you wind down. Join us for this inspiring and practical Community Connections workshop with Dr. Soraya\, M.D.\, as she shares simple exercises\, stretches\, breathing techniques\, and food choices to help you create more energy\, reduce stress\, and feel your best &mdash\; all day long. Whether you&#39\;re juggling work\, family\, or simply seeking to build better habits\, this session will empower you to take control of your routine and live with greater purpose and ease. Don&rsquo\;t miss this chance to reset and recharge with expert guidance!<br />\n<br />\nPlease bring a yoga mat or a chair to sit on during relaxation. We&#39\;ll have snacks and appetizers available. Please bring a water bottle. This event will be outside\, weather permitting.</span></span></span><br />\n<br />\n<span style="color:#000000\;"><span style="font-size:14px\;"><span style="font-family:arial\;">About your Speaker</span></span></span>\n<p class="bodytext" style="box-sizing: border-box\; border-width: 0px\; border-style: solid\; border-color: rgba(0\, 0\, 0\, 0)\; margin: 0px\; padding: 0px\; font-size: medium\; line-height: 1.8em\; overflow-wrap: break-word\; color: rgb(28\, 28\, 28)\; font-family: Mulish\; background-color: rgb(244\, 246\, 249)\;"><span style="color:#000000\;"><span style="font-size:14px\;"><span style="font-family:arial\;">Dr.&nbsp\;Michelle Soraya Pourtabib\, MD\, comes from a long lineage of healers. Her great-great-grandfather\, great-grandfather\, and father were all physicians. Her last name translates to &quot\;child of a physician.&quot\;&nbsp\;&nbsp\;Before attending medical school\, Dr. Pourtabib was the founder/owner of Soraya Yoga\, Inc.\, a wellness company where she offered yoga\, pilates\, meditation\, ayurvedic massage\, and dance classes. Her calling to medicine came when her students continued to ask her for medical guidance on their ailments\, which sparked her desire to learn more about both Eastern and Western medicine.&nbsp\;Dr. Pourtabib is double board-certified obesity (bariatric) and family medicine physician specializing in Functional Medicine. She has completed clinical rotations in Palm Springs\, CA\, with Dr. Steven Gundry at his Center for Restorative Medicine in Functional Medicine and with Dr. Ramy Awad at Desert Bariatrics in Bariatric Medicine and Surgery. She is on medical staff at Tahoe Forest Hospital in Truckee\, CA. Dr. Pourtabib is happy to serve as the only Board-Certified Obesity Medicine Specialist in North Lake Tahoe and the surrounding areas.&nbsp\;<span style="background-color: rgb(255\, 255\, 255)\;">https://www.sorayamd.com/</span></span></span></span></p>\n
LOCATION:Alder Creek Adventure Center 15275 Alder Creek Rd\, Truckee\, CA 96161
UID:e.2339.81056
SEQUENCE:3
DTSTAMP:20260422T093919Z
URL:http://chamber.sdbxstudio.com/events/details/community-connections-event-dr-soraya-m-d-workshop-81056
END:VEVENT

END:VCALENDAR
