BEGIN:VCALENDAR
VERSION:2.0
PRODID:-//ChamberMaster//Event Calendar 2.0//EN
METHOD:PUBLISH
X-PUBLISHED-TTL:P3D
REFRESH-INTERVAL:P3D
CALSCALE:GREGORIAN
BEGIN:VEVENT
DTSTART:20260326T003000Z
DTEND:20260326T013000Z
X-MICROSOFT-CDO-ALLDAYEVENT:FALSE
SUMMARY:Creative Meetup - Understanding Culture Forward: Next Steps
DESCRIPTION:Join us March 25 at the Steve Randall Community Rec Center for our next Creatives Meetup\, "We Want to Hear from Artists!" where we'll share the Culture Forward action plans and start shaping what comes next with local voices leading the way.
X-ALT-DESC;FMTTYPE=text/html:Join us March 25 at the Steve Randall Community Rec Center for our next Creatives Meetup\, &ldquo\;We Want to Hear from Artists!&rdquo\; where we&rsquo\;ll share the Culture Forward action plans and start shaping what comes next with local voices leading the way.
LOCATION:Steve Randall Truckee Community Recreation Center
UID:e.2339.83453
SEQUENCE:3
DTSTAMP:20260421T185648Z
URL:http://chamber.sdbxstudio.com/events/details/creative-meetup-understanding-culture-forward-next-steps-83453
END:VEVENT

END:VCALENDAR
