BEGIN:VCALENDAR
VERSION:2.0
PRODID:-//ChamberMaster//Event Calendar 2.0//EN
METHOD:PUBLISH
X-PUBLISHED-TTL:P3D
REFRESH-INTERVAL:P3D
CALSCALE:GREGORIAN
BEGIN:VEVENT
DTSTART:20251223T180000Z
DTEND:20251223T210000Z
X-MICROSOFT-CDO-ALLDAYEVENT:FALSE
SUMMARY:Daytime Snowshoe Tours!
DESCRIPTION:Discover the finer points of winter ecology and other unique conditions of the Tahoe Truckee area with our daily guided snowshoe tours! We will also stop along the way to take in the beautiful views.\n\n\n\nOur guided Snowshoe Tours are popular with all levels of nature enthusiasts. Cost: $99 pp. Time: 10am-1pm. Trip Includes: Snowshoes\, poles\, knowledgeable guides\, natural and human history discussions\, trail snacks\, hot drinks\, and permit fees. No experience necessary.
X-ALT-DESC;FMTTYPE=text/html:Discover the finer points of winter ecology and other unique conditions of the Tahoe Truckee area with our daily guided snowshoe tours! We will also stop along the way to take in the beautiful views.<br />\n<br />\nOur guided Snowshoe Tours are popular with all levels of nature enthusiasts. Cost: $99 pp. Time: 10am-1pm. Trip Includes: Snowshoes\, poles\, knowledgeable guides\, natural and human history discussions\, trail snacks\, hot drinks\, and permit fees. No experience necessary.
LOCATION:North Lake Tahoe\, South Lake Tahoe\, Truckee
UID:e.2339.82899
SEQUENCE:3
DTSTAMP:20260422T010838Z
URL:http://chamber.sdbxstudio.com/events/details/daytime-snowshoe-tours-12-23-2025-82899
END:VEVENT

END:VCALENDAR
