BEGIN:VCALENDAR
VERSION:2.0
PRODID:-//ChamberMaster//Event Calendar 2.0//EN
METHOD:PUBLISH
X-PUBLISHED-TTL:P3D
REFRESH-INTERVAL:P3D
CALSCALE:GREGORIAN
BEGIN:VEVENT
DTSTART;VALUE=DATE:20250809
DTEND;VALUE=DATE:20250810
TRANSP:TRANSPARENT
X-MICROSOFT-CDO-ALLDAYEVENT:TRUE
SUMMARY:Downieville Classic
DESCRIPTION:Race or ride the epic 26.5 mile cross country to the Sierra Crest and back to town\, or take in a double dose with 15 miles of the Downieville Downhill in the All Mountain World Championships. Or just come to enjoy the bike festival for the weekend. Either way\, you win.
X-ALT-DESC;FMTTYPE=text/html:Race or ride the epic 26.5 mile cross country to the Sierra Crest and back to town\, or take in a double dose with 15 miles of the Downieville Downhill in the All Mountain World Championships. Or just come to enjoy the bike festival for the weekend. Either way\, you win.
LOCATION:Downieville\, California
UID:e.2339.79734
SEQUENCE:3
DTSTAMP:20260422T094221Z
URL:http://chamber.sdbxstudio.com/events/details/downieville-classic-08-09-2025-79734
END:VEVENT

END:VCALENDAR
