BEGIN:VCALENDAR
VERSION:2.0
PRODID:-//ChamberMaster//Event Calendar 2.0//EN
METHOD:PUBLISH
X-PUBLISHED-TTL:P3D
REFRESH-INTERVAL:P3D
CALSCALE:GREGORIAN
BEGIN:VEVENT
DTSTART:20250820T010000Z
DTEND:20250820T020000Z
X-MICROSOFT-CDO-ALLDAYEVENT:FALSE
SUMMARY:Every Picture Tells a Story - Truckee-Donner Historical Society
DESCRIPTION:The Museum of Truckee History will present a History Talk on the Truckee-Donner Historical Society's online Image Collection
X-ALT-DESC;FMTTYPE=text/html:The Museum of Truckee History will present a History Talk on the Truckee-Donner Historical Society&#39\;s online Image Collection
LOCATION:Truckee Tahoe Airport 10356 Truckee Airport Road
UID:e.2339.79794
SEQUENCE:3
DTSTAMP:20260422T094512Z
URL:http://chamber.sdbxstudio.com/events/details/every-picture-tells-a-story-truckee-donner-historical-society-79794
END:VEVENT

END:VCALENDAR
