BEGIN:VCALENDAR
VERSION:2.0
PRODID:-//ChamberMaster//Event Calendar 2.0//EN
METHOD:PUBLISH
X-PUBLISHED-TTL:P3D
REFRESH-INTERVAL:P3D
CALSCALE:GREGORIAN
BEGIN:VEVENT
DTSTART:20250827T230000Z
DTEND:20250828T020000Z
X-MICROSOFT-CDO-ALLDAYEVENT:FALSE
SUMMARY:Gallery Reveal
DESCRIPTION:Join us for an unforgettable evening as Summerset Senior Living\, in collaboration with Mountain Lake Estates and Volante Senior Living\, proudly unveils The Generations Photo Gallery Reveal\; a striking black-and-white exhibit that honors the vibrant lives of Reno's older adults.\n\n \n\nCaptured through the lens of Summerset's own creative force and photographer\, Heidi Breuner\, these portraits tell stories of resilience\, joy\, and individuality. Many of our featured community members shared that it had been years\, maybe even decades since they were in front of the camera for themselves. This event was created to celebrate them\, in all their real\, radiant beauty.\n  Wine\, light bites\, and live music flowing through both Summerset campuses\; a celebration for all the senses.
X-ALT-DESC;FMTTYPE=text/html:<div>Join us for an unforgettable evening as Summerset Senior Living\, in collaboration with Mountain Lake Estates&nbsp\;and Volante Senior Living\, proudly unveils The Generations Photo Gallery Reveal\; a striking black-and-white exhibit that honors the vibrant lives of Reno&rsquo\;s older adults.<br />\n&nbsp\;</div>\n\n<div>Captured through the lens of Summerset&rsquo\;s own creative force and photographer\, Heidi Breuner\, these portraits tell stories of resilience\, joy\, and individuality. Many of our featured community members shared that it had been years\, maybe even decades since they were in front of the camera for themselves. This event was created to celebrate&nbsp\;them\, in all their real\, radiant beauty.\n<div>&bull\; Wine\, light bites\, and live music flowing through both Summerset campuses\; a celebration for all the senses.</div>\n\n<div>&nbsp\;</div>\n\n<div>&nbsp\;</div>\n\n<div>&nbsp\;</div>\n</div>\n
LOCATION:Independent & Assisted Living 6215 Sharlands Avenue\, Reno NV\, 89523 and Adaptive Care & Memory Care 6205 Sharlands Avenue\, Reno NV\, 89523
UID:e.2339.81063
SEQUENCE:3
DTSTAMP:20260422T093727Z
URL:http://chamber.sdbxstudio.com/events/details/gallery-reveal-81063
END:VEVENT

END:VCALENDAR
