BEGIN:VCALENDAR
VERSION:2.0
PRODID:-//ChamberMaster//Event Calendar 2.0//EN
METHOD:PUBLISH
X-PUBLISHED-TTL:P3D
REFRESH-INTERVAL:P3D
CALSCALE:GREGORIAN
BEGIN:VEVENT
DTSTART:20250819T144500Z
DTEND:20250820T043000Z
X-MICROSOFT-CDO-ALLDAYEVENT:FALSE
SUMMARY:Good Morning Truckee: Updates from Our Neighbors
DESCRIPTION:Join us for August Good Morning Truckee: Updates From Our Neighbors. This month's program will feature updates from our neighboring communities\, highlighting exciting projects\, initiatives\, and developments happening just beyond Truckee. Hear how these efforts may impact our region and provide new opportunities for connection and collaboration.\n\nOur speakers are\n\n\n	Beth Tanhoff & Pat Malberg\, Board of Directors\, Donner Summit Association\n	EDAWN (Economic Development Authority of Western Nevada)\n	Steve Teshara\, Board of Directors Eastern Placer Future\n\n\nOur nonprofit spotlight is Vivian Ruiz with Sierra Senior Services\n\n\n\nGood Morning Truckee is a monthly community breakfast meeting presented by the Truckee Chamber of Commerce to provide timely and relevant information on a variety of topics and create a networking opportunity.\n\nGood Morning Truckee is held in person at Truckee Town Hall\, 10183 Truckee Airport Rd. from 8:00-9:30 a.m. Arrive at 7:45 to get your coffee\, breakfast\, and a seat. The sessions are recorded and available for viewing at a future date.\n\nGood Morning Truckee is open to the public   everyone is welcome!\n\n\n	It is held the third Tuesday of every month\n	Truckee Town Hall\, 10183 Truckee Airport Road\n	In person meeting is from 8:00-9:30 a.m. and includes networking\, introductions\, coffee and light continental breakfast. $10 for Chamber members and $15 for non-Chamber members.\n\n\nWhether you are new to the community or have lived here for years\, hearing from our leaders in the community is an enjoyable way to stay on top of important issues\, connect and engage. One of the great things about living in a small community like Truckee is that you can personally know your leaders and work with them to make a difference.\n\nGood Morning Truckee is presented by the Truckee Chamber of Commerce in partnership with our sponsors: \n\n \n\nPresenting Sponsors: Kelly Brothers Painting and Tahoe Forest Health Care System. \n\nLatte Sponsors: Town of Truckee\, PT Revolution\, Schaffer's Mill Golf\, Ski & Lake Club\, Moonshine Ink\, Tahoe-Truckee Media\, Truckee-Tahoe Unified School District\, Sierra Sun\, 101.5 Truckee Tahoe Radio\, Porter Simon and Auerbach Engineering Corp.\n\nCappuccino Sponsors: Tahoe Truckee Community Foundation\, Goldring Travel\, Boreal Mountain Resort & Woodward Tahoe\, East River Public Relations & Marketing\, JKAE\, Teichert\, Trout Creek Outfitters\n\nEspresso Sponsors: Mountain Hardware & Sports\, Mt. Lincoln Construction\, Inc.\, Tahoe Dave's\, Peak Digital Studio\, Dickson Realty\, LP Insurance Services\, LLC\, Contractors Association of Truckee Tahoe\, Martis Valley Mobile Notary\, Lift Co-Work.
X-ALT-DESC;FMTTYPE=text/html:<p>Join us for August&nbsp\;Good Morning Truckee: Updates From Our Neighbors. This month&rsquo\;s program will feature updates from our neighboring communities\, highlighting exciting projects\, initiatives\, and developments happening just beyond Truckee. Hear how these efforts may impact our region and provide new opportunities for connection and collaboration.<br />\nOur speakers are</p>\n\n<ul>\n	<li><strong>Beth Tanhoff &amp\; Pat Malberg\, Board of Directors\,&nbsp\;Donner Summit Association</strong></li>\n	<li><strong>EDAWN (Economic Development Authority of Western Nevada)</strong></li>\n	<li><strong>Steve Teshara\, Board of Directors Eastern Placer Future</strong></li>\n</ul>\n\n<p>Our nonprofit spotlight is <strong>Vivian Ruiz</strong> with <strong>Sierra&nbsp\;Senior Services</strong><br />\n<br />\nGood Morning Truckee is a monthly community breakfast meeting presented by the Truckee Chamber of Commerce to provide timely and relevant information on a variety of topics and create a networking opportunity.</p>\n\n<p>Good Morning Truckee is held in person at&nbsp\;Truckee Town Hall\, 10183 Truckee Airport Rd. from 8:00-9:30&nbsp\;a.m. Arrive at 7:45 to get your coffee\, breakfast\, and a seat. The sessions are recorded and available for viewing at a future date.</p>\n\n<p>Good Morning Truckee is open to the public &mdash\; everyone is welcome!</p>\n\n<ul>\n	<li>It is held the third Tuesday of every month</li>\n	<li>Truckee Town Hall\, 10183 Truckee Airport Road</li>\n	<li>In person meeting is from 8:00-9:30&nbsp\;a.m. and includes networking\, introductions\, coffee and light continental breakfast. $10 for Chamber members and $15 for non-Chamber members.</li>\n</ul>\n\n<p>Whether you are new to the community or have lived here for years\, hearing from our leaders in the community is an enjoyable way to stay on top of important issues\, connect and engage. One of the great things about living in a small community like Truckee is that you can personally know your leaders and work with them to make a difference.</p>\n\n<div class="gmail_default" style="color: rgb(34\, 34\, 34)\; font-family: Arial\, Helvetica\, sans-serif\; font-size: small\;"><span style="font-size:14px\;"><strong><span style="background-color: transparent\; white-space-collapse: preserve\;"><font color="#000000" face="arial\, sans-serif">Good Morning Truckee is presented by the Truckee Chamber of Commerce in partnership with our sponsors: </font></span></strong></span></div>\n\n<div class="gmail_default" style="color: rgb(34\, 34\, 34)\; font-family: Arial\, Helvetica\, sans-serif\; font-size: small\;"><span style="font-size:14px\;"><strong><font color="#000000" face="arial\, sans-serif">&#8203\;</font></strong></span></div>\n\n<div class="gmail_default" style="color: rgb(34\, 34\, 34)\; font-family: Arial\, Helvetica\, sans-serif\; font-size: small\;"><span style="font-size:14px\;"><strong><span style="background-color: transparent\; white-space-collapse: preserve\;"><font color="#000000" face="arial\, sans-serif">Presenting Sponsors: Kelly Brothers Painting and Tahoe Forest Health Care System.&nbsp\;</font></span></strong></span></div>\n\n<p dir="ltr" style="line-height: 1.38\; margin-top: 12pt\; margin-bottom: 12pt\;"><span style="font-size:14px\;"><strong><span id="gmail-docs-internal-guid-10150f49-7fff-5954-691a-14aa47259d55" style="color: rgb(34\, 34\, 34)\; font-family: Arial\, Helvetica\, sans-serif\;"><font color="#000000" face="arial\, sans-serif"><span style="background-color: transparent\; font-variant-numeric: normal\; font-variant-east-asian: normal\; font-variant-alternates: normal\; font-variant-position: normal\; font-variant-emoji: normal\; vertical-align: baseline\; white-space-collapse: preserve\;">Latte Sponsors: Town of Truckee\, PT Revolution\, Schaffer&#39\;s Mill Golf\, Ski &amp\; Lake Club\, Moonshine Ink\, Tahoe-Truckee Media\, Truckee-Tahoe Unified School District\, Sierra Sun\, 101.5 Truckee Tahoe Radio\, Porter Simon and Auerbach Engineering Corp.</span></font></span></strong></span></p>\n\n<p dir="ltr" style="line-height: 1.38\; margin-top: 12pt\; margin-bottom: 12pt\;"><span style="font-size:14px\;"><strong><span id="gmail-docs-internal-guid-10150f49-7fff-5954-691a-14aa47259d55" style="color: rgb(34\, 34\, 34)\; font-family: Arial\, Helvetica\, sans-serif\;"><font color="#000000" face="arial\, sans-serif"><span style="background-color: transparent\; font-variant-numeric: normal\; font-variant-east-asian: normal\; font-variant-alternates: normal\; font-variant-position: normal\; font-variant-emoji: normal\; vertical-align: baseline\; white-space-collapse: preserve\;">Cappuccino Sponsors: Tahoe Truckee Community Foundation\, Goldring Travel\, Boreal Mountain Resort &amp\; Woodward Tahoe\, East River Public Relations &amp\; Marketing\, JKAE\, Teichert\, Trout Creek Outfitters</span></font></span></strong></span></p>\n\n<p dir="ltr" style="line-height: 1.38\; margin-top: 12pt\; margin-bottom: 12pt\;"><span style="font-size:14px\;"><strong><span id="gmail-docs-internal-guid-10150f49-7fff-5954-691a-14aa47259d55" style="color: rgb(34\, 34\, 34)\; font-family: Arial\, Helvetica\, sans-serif\;"><font color="#000000" face="arial\, sans-serif"><span style="background-color: transparent\; font-variant-numeric: normal\; font-variant-east-asian: normal\; font-variant-alternates: normal\; font-variant-position: normal\; font-variant-emoji: normal\; vertical-align: baseline\; white-space-collapse: preserve\;">Espresso Sponsors: Mountain Hardware &amp\; Sports\, Mt. Lincoln Construction\, Inc.\, Tahoe Dave&#39\;s\, Peak Digital Studio\, Dickson Realty\, LP Insurance Services\, LLC\, Contractors Association of Truckee Tahoe\, Martis Valley Mobile Notary\, Lift Co-Work.</span></font></span></strong></span></p>\n
LOCATION:Truckee Town Hall Town Council Chambers
UID:e.2339.78712
SEQUENCE:3
DTSTAMP:20260422T112835Z
URL:http://chamber.sdbxstudio.com/events/details/good-morning-truckee-updates-from-our-neighbors-78712
END:VEVENT

END:VCALENDAR
