BEGIN:VCALENDAR
VERSION:2.0
PRODID:-//ChamberMaster//Event Calendar 2.0//EN
METHOD:PUBLISH
X-PUBLISHED-TTL:P3D
REFRESH-INTERVAL:P3D
CALSCALE:GREGORIAN
BEGIN:VEVENT
DTSTART;VALUE=DATE:20260316
DTEND;VALUE=DATE:20260317
TRANSP:TRANSPARENT
X-MICROSOFT-CDO-ALLDAYEVENT:TRUE
SUMMARY:Hope Week by TTUSD's Hope Squad
DESCRIPTION:Hope Week is Tahoe Truckee Unified School District's Hope Squad's annual uplifting week a community-wide celebration of connection\, resilience\, and the power of showing up for one another.\n\n \n\nThroughout the week\, students and community members can participate in:\n\n\n	Cup of Hope at participating local coffee shops where simple moments spark meaningful conversations\n	On-campus activities across TTUSD school sites focused on belonging\, peer support\, and mental wellness\n	Guest speaker Drew Petersen\, sharing about the power of storytelling\, vulnerability\, and mental health in the mountains and beyond at our middle and high schools - Drew will also guest host Alibi's Trivia on March 17\, featuring Zero Proof\, for You\n	March 24   Town of Truckee Proclamation recognizing Hope Week and the importance of youth mental health\n	Hope Week banners displayed throughout the community\n\n\n \n\nHope Week is about normalizing conversations\, strengthening protective factors\, and reminding every student: you matter here.\n\n \n\nInterested in getting your organization involved? Reach out to learn how you can partner\, host a Cup of Hope\, sponsor an activity\, or amplify the message of hope across Truckee-Tahoe. IEmail: info@thespeedyfoundation.org
X-ALT-DESC;FMTTYPE=text/html:<p>Hope Week is Tahoe Truckee Unified School District&rsquo\;s&nbsp\;Hope Squad&#39\;s annual uplifting week&mdash\;a community-wide celebration of connection\, resilience\, and the power of showing up for one another.</p>\n\n<p>&nbsp\;</p>\n\n<p>Throughout the week\, students and community members can participate in:</p>\n\n<ul>\n	<li>Cup of Hope&nbsp\;at participating local coffee shops&mdash\;where simple moments spark meaningful conversations</li>\n	<li>On-campus activities&nbsp\;across TTUSD school sites focused on belonging\, peer support\, and mental wellness</li>\n	<li>Guest speaker Drew Petersen\, sharing about the power of storytelling\, vulnerability\, and mental health in the mountains and beyond at our middle and high schools - Drew will also guest host Alibi&rsquo\;s Trivia on March 17\, featuring&nbsp\;Zero Proof\, for You</li>\n	<li>March 24 &ndash\; Town of Truckee Proclamation&nbsp\;recognizing Hope Week and the importance of youth mental health</li>\n	<li>Hope Week&nbsp\;banners&nbsp\;displayed throughout the community</li>\n</ul>\n\n<p>&nbsp\;</p>\n\n<p>Hope Week is about normalizing conversations\, strengthening protective factors\, and reminding every student:&nbsp\;you matter here.</p>\n\n<p>&nbsp\;</p>\n\n<p>Interested in getting your organization involved?&nbsp\;Reach out to learn how you can partner\, host a Cup of Hope\, sponsor an activity\, or amplify the message of hope across Truckee-Tahoe. IEmail:&nbsp\;<a href="mailto:info@thespeedyfoundation.org" target="_blank">info@thespeedyfoundation.org</a></p>\n
LOCATION:TTUSD and throughout the Truckee-Tahoe Community
UID:e.2339.83447
SEQUENCE:3
DTSTAMP:20260421T185635Z
URL:http://chamber.sdbxstudio.com/events/details/hope-week-ttusd-hope-squad-83447
END:VEVENT

END:VCALENDAR
