BEGIN:VCALENDAR
VERSION:2.0
PRODID:-//ChamberMaster//Event Calendar 2.0//EN
METHOD:PUBLISH
X-PUBLISHED-TTL:P3D
REFRESH-INTERVAL:P3D
CALSCALE:GREGORIAN
BEGIN:VEVENT
DTSTART:20260308T220000Z
DTEND:20260309T010000Z
X-MICROSOFT-CDO-ALLDAYEVENT:FALSE
SUMMARY:Ididarun Dog Pull Race
DESCRIPTION:Inspired by the world-famous Iditarod Trail Sled Dog Race\, Tahoe Donner holds its own "Ididarun" race to benefit the Humane Society of Truckee-Tahoe.
X-ALT-DESC;FMTTYPE=text/html:Inspired by the world-famous Iditarod Trail Sled Dog Race\, Tahoe Donner holds its own &ldquo\;Ididarun&rdquo\; race to benefit the Humane Society of Truckee-Tahoe.
LOCATION:Tahoe Donner Cross Country Ski Center
UID:e.2339.83455
SEQUENCE:3
DTSTAMP:20260421T185522Z
URL:http://chamber.sdbxstudio.com/events/details/ididarun-dog-pull-race-83455
END:VEVENT

END:VCALENDAR
