BEGIN:VCALENDAR
VERSION:2.0
PRODID:-//ChamberMaster//Event Calendar 2.0//EN
METHOD:PUBLISH
X-PUBLISHED-TTL:P3D
REFRESH-INTERVAL:P3D
CALSCALE:GREGORIAN
BEGIN:VEVENT
DTSTART:20260828T000000Z
DTEND:20260828T050000Z
X-MICROSOFT-CDO-ALLDAYEVENT:FALSE
SUMMARY:Latitude 39| A Mountain Music Experience
DESCRIPTION:We are thrilled to announce that the 4th annual Latitude 39| A Mountain Music Experience will take place on Thursday August 27\, 2026. This year\, we are excited to be working in conjunction with the town's beloved Truckee Pro Rodeo to provide an unforgettable night of entertainment.\n\n\n\nFeaturing Extreme Bulls and Broncs along with the nationally acclaimed musical group..........Drum roll\, please..................... ELI YOUNG BAND!!!!!!!!!!!! Along with this powerhouse line up Latitude 39 is hosting artists Mark Mackay and CJ Solar who generate high energy under the Sierra sky along with a special performance from Kristen Brown!\n\n \n\n Come get your party on with Latitude 39!
X-ALT-DESC;FMTTYPE=text/html:<p>We are thrilled to announce that the 4th annual Latitude 39| A Mountain Music Experience will take place on Thursday August 27\, 2026. This year\, we are excited to be working in conjunction with the town&#39\;s beloved Truckee Pro Rodeo to provide an unforgettable night of entertainment.<br />\n<br />\nFeaturing Extreme Bulls and Broncs&nbsp\;along with the nationally acclaimed musical group..........Drum roll\, please..................... ELI YOUNG BAND!!!!!!!!!!!! Along with this powerhouse line up&nbsp\;Latitude 39 is hosting&nbsp\;artists Mark Mackay and CJ Solar who generate high energy under the Sierra sky along with a special performance from Kristen Brown!<br />\n&nbsp\;<br />\n&nbsp\;Come get your party on with Latitude 39!</p>\n
LOCATION:McIver Rodeo Arena
UID:e.2339.83712
SEQUENCE:3
DTSTAMP:20260421T230939Z
URL:http://chamber.sdbxstudio.com/events/details/latitude-39-a-mountain-music-experience-83712
END:VEVENT

END:VCALENDAR
