BEGIN:VCALENDAR
VERSION:2.0
PRODID:-//ChamberMaster//Event Calendar 2.0//EN
METHOD:PUBLISH
X-PUBLISHED-TTL:P3D
REFRESH-INTERVAL:P3D
CALSCALE:GREGORIAN
BEGIN:VEVENT
DTSTART:20250621T170000Z
DTEND:20250621T210000Z
X-MICROSOFT-CDO-ALLDAYEVENT:FALSE
SUMMARY:Legacy Day
DESCRIPTION:Legacy Day returns at Donner Memorial State Park for its third-ever annual celebration of the land's legacy\, its cultural and natural history\, and the people that inhabited the land. Bring the family for this free event and enjoy live music \, Big Blue Q food truck\, historical half-mile tours\, children's activities\, visiting exhibitors\, and a program led by the Washoe Tribe at the end of the day! Admission is free. The $10 parking fee still applies.\n\nThank you to our partners: Truckee Chamber of Commerce\, Big Blue Q\, Tahoe Guide\, and Tahoe.com.
X-ALT-DESC;FMTTYPE=text/html:<p>Legacy Day returns at Donner Memorial State Park for its third-ever annual celebration of the land&rsquo\;s legacy\, its cultural and natural history\, and the people that inhabited the land. Bring the family for this free event and enjoy live music \, Big Blue Q food truck\, historical half-mile tours\, children&rsquo\;s activities\, visiting exhibitors\, and a program led by the Washoe Tribe at the end of the day! Admission is free. The $10 parking fee still applies.</p>\n\n<p>Thank you to our partners:&nbsp\;<a href="https://truckee.com/" style="background-image: unset\; background-position: unset\; background-size: unset\; background-repeat: unset\; background-attachment: initial\; background-origin: initial\; background-clip: initial\; background-color: initial\; cursor: pointer\; color: var(--paragraphLinkColor)\; text-decoration-thickness: 1px\; text-decoration-style: solid\; text-decoration-color: currentcolor\; white-space: initial\; text-underline-offset: 0.2em\; text-decoration-skip-ink: auto\; overflow-wrap: break-word\;" target="_blank">Truckee Chamber of Commerce</a>\, <a href="https://bbqtahoe.com/" style="background-image: unset\; background-position: unset\; background-size: unset\; background-repeat: unset\; background-attachment: initial\; background-origin: initial\; background-clip: initial\; background-color: initial\; cursor: pointer\; color: var(--paragraphLinkColor)\; text-decoration-thickness: 1px\; text-decoration-style: solid\; text-decoration-color: currentcolor\; white-space: initial\; text-underline-offset: 0.2em\; text-decoration-skip-ink: auto\; overflow-wrap: break-word\;" target="_blank">Big Blue Q</a>\, <a href="https://thetahoeweekly.com/" style="background-image: unset\; background-position: unset\; background-size: unset\; background-repeat: unset\; background-attachment: initial\; background-origin: initial\; background-clip: initial\; background-color: initial\; cursor: pointer\; color: var(--paragraphLinkColor)\; text-decoration-thickness: 1px\; text-decoration-style: solid\; text-decoration-color: currentcolor\; white-space: initial\; text-underline-offset: 0.2em\; text-decoration-skip-ink: auto\; overflow-wrap: break-word\;" target="_blank">Tahoe Guide</a>\, and <a href="https://tahoe.com/" style="background-image: unset\; background-position: unset\; background-size: unset\; background-repeat: unset\; background-attachment: initial\; background-origin: initial\; background-clip: initial\; background-color: initial\; cursor: pointer\; color: var(--paragraphLinkColor)\; text-decoration-thickness: 1px\; text-decoration-style: solid\; text-decoration-color: currentcolor\; white-space: initial\; text-underline-offset: 0.2em\; text-decoration-skip-ink: auto\; overflow-wrap: break-word\;">Tahoe.com</a>.</p>\n
LOCATION:Donner Memorial State Park 12593 Donner Pass Road\, Truckee\, CA\, 96161
UID:e.2339.78955
SEQUENCE:3
DTSTAMP:20260422T141940Z
URL:http://chamber.sdbxstudio.com/events/details/legacy-day-06-21-2025-78955
END:VEVENT

END:VCALENDAR
