BEGIN:VCALENDAR
VERSION:2.0
PRODID:-//ChamberMaster//Event Calendar 2.0//EN
METHOD:PUBLISH
X-PUBLISHED-TTL:P3D
REFRESH-INTERVAL:P3D
CALSCALE:GREGORIAN
BEGIN:VEVENT
DTSTART:20250802T013000Z
DTEND:20250802T033000Z
X-MICROSOFT-CDO-ALLDAYEVENT:FALSE
SUMMARY:LOTUS BLOOM: DJ Marques Wyatt & Yoga by Abby Jacob
DESCRIPTION:Join Vinyasa Yoga teacher Abby Jacob and legendary DJ\, Marques Wyatt\, in a heart-centered journey where movement becomes devotion and breath becomes prayer. This class weaves dynamic flow with the spirit of Bhakti the yoga of love and surrender. Like the devoted seeker offering every action to the Divine\, we move with intention\, humility\, and presence. Each posture\, each breath\, is an invitation to harmonize body\, mind\, and soul in service to something greater than ourselves.\n\nAwaken the inner light\, open the heart\, and flow in rhythm with the sacred.\n\nThis is an all-levels Vinyasa based yoga class. Class is not heated. Free elixirs for all participants!\n\nMore about this experience\, this hybrid ritual dance\, yoga class\, and DJ sound immersion is designed for any-body. All are welcome to enjoy the transformative power of breath and movement. Prepare to immerse yourself in a trance of the body\, mind\, and spirit as we flow through sequences that honor the dance and mystic essence within us all.
X-ALT-DESC;FMTTYPE=text/html:<p>Join Vinyasa Yoga teacher Abby Jacob and legendary DJ\, Marques Wyatt\, in a heart-centered journey where movement becomes devotion and breath becomes prayer. This class weaves dynamic flow with the spirit of Bhakti&mdash\;the yoga of love and surrender. Like the devoted seeker offering every action to the Divine\, we move with intention\, humility\, and presence. Each posture\, each breath\, is an invitation to harmonize body\, mind\, and soul in service to something greater than ourselves.</p>\n\n<p>Awaken the inner light\, open the heart\, and flow in rhythm with the sacred.</p>\n\n<p>This is an all-levels Vinyasa based yoga class. Class is not heated. Free elixirs for all participants!</p>\n\n<p><strong>More about this experience\, </strong>this hybrid ritual dance\, yoga class\, and DJ sound immersion is designed for any-body. All are welcome to enjoy the transformative power of breath and movement. Prepare to immerse yourself in a trance of the body\, mind\, and spirit as we flow through sequences that honor the dance and mystic essence within us all.</p>\n\n<div>&nbsp\;</div>\n
LOCATION:Mountain Lotus Yoga Truckee
UID:e.2339.81030
SEQUENCE:3
DTSTAMP:20260422T095238Z
URL:http://chamber.sdbxstudio.com/events/details/lotus-bloom-dj-marques-wyatt-yoga-by-abby-jacob-81030
END:VEVENT

END:VCALENDAR
