BEGIN:VCALENDAR
VERSION:2.0
PRODID:-//ChamberMaster//Event Calendar 2.0//EN
METHOD:PUBLISH
X-PUBLISHED-TTL:P3D
REFRESH-INTERVAL:P3D
CALSCALE:GREGORIAN
BEGIN:VEVENT
DTSTART:20260118T040000Z
DTEND:20260118T070000Z
X-MICROSOFT-CDO-ALLDAYEVENT:FALSE
SUMMARY:Mescalito: Live Music at Mountain Lotus
DESCRIPTION:Soulful mountain rock and jam from Tahoe's Mescalito. Dance\, groove\, and gather for a high energy night at Mountain Lotus.\n\nCome dance like nobody's watching as Mescalito brings their soul-filled\, high-energy sound to Mountain Lotus. This Tahoe-based seven-piece delivers an eclectic night of music that blends timeless classics with original songs rooted in the mountains and made for movement.\n\nExpect an energetic rock/jam experience with deep grooves and soaring improvisation\, weaving together funk\, blues\, psychedelic textures\, and mountain rock. Known for tight musicianship and a true "music-first" approach\, Mescalito creates a welcoming\, community-driven atmosphere that feels like friends playing together perfect for dancing\, relaxing\, or both.\n\nLate-Night Cafe \n\nMountain Lotus Cafe will be open with late-night bites and drink. Grab your friends and settle in for a night to remember.\n\nAbout the Band\n\nMescalito is a seven-piece rock 'n' roll band based out of South Lake Tahoe\, born from a shared love of music\, the outdoors\, and community. Formed organically in 2016\, the band has become a staple of the Tahoe music scene and beyond.\n\nBand Members\n\nMartin Bush (guitar\, vocals)   Simon Kurth (guitar\, vocals)   Marty Ylitalo (drums\, vocals)   Seth Hall (sax\, vocals)   Andy Voelkel (trombone\, vocals)   Keith Ovelmen (bass)   Ryan Taylor (keys)\n\nNotable Performances\n\nHigh Sierra Music Festival   Hangtown Music Festival   Golden Road Gathering   Backcountry Festival   Harvey's Outdoor Arena   Lake Tahoe concert series   Sold-out local shows\n\nCommunity-Minded\n\nCommunity is central to Mescalito's mission. The band frequently supports fundraisers and socially conscious events and regularly collaborates with a vibrant circle of artists and longtime friends.\n\nSounds Like\n\nA soulful blend inspired by the Allman Brothers Band\, Rolling Stones\, Little Feat and a sound uniquely their own.
X-ALT-DESC;FMTTYPE=text/html:<p>Soulful mountain rock and jam from Tahoe&rsquo\;s Mescalito. Dance\, groove\, and gather for a high energy night at Mountain Lotus.</p>\n\n<p>Come dance like nobody&rsquo\;s watching as <strong>Mescalito</strong> brings their soul-filled\, high-energy sound to Mountain Lotus. This Tahoe-based seven-piece delivers an eclectic night of music that blends timeless classics with original songs&mdash\;rooted in the mountains and made for movement.</p>\n\n<p>Expect an energetic rock/jam experience with deep grooves and soaring improvisation\, weaving together funk\, blues\, psychedelic textures\, and mountain rock. Known for tight musicianship and a true &ldquo\;music-first&rdquo\; approach\, Mescalito creates a welcoming\, community-driven atmosphere that feels like friends playing together&mdash\;perfect for dancing\, relaxing\, or both.</p>\n\n<p><strong>Late-Night Cafe </strong><br />\nMountain Lotus Cafe will be open with late-night bites and drink. Grab your friends and settle in for a night to remember.</p>\n\n<p><strong>About the Band</strong><br />\nMescalito is a seven-piece rock &rsquo\;n&rsquo\; roll band based out of South Lake Tahoe\, born from a shared love of music\, the outdoors\, and community. Formed organically in 2016\, the band has become a staple of the Tahoe music scene and beyond.</p>\n\n<p><strong>Band Members</strong><br />\nMartin Bush (guitar\, vocals) &bull\; Simon Kurth (guitar\, vocals) &bull\; Marty Ylitalo (drums\, vocals) &bull\; Seth Hall (sax\, vocals) &bull\; Andy Voelkel (trombone\, vocals) &bull\; Keith Ovelmen (bass) &bull\; Ryan Taylor (keys)</p>\n\n<p><strong>Notable Performances</strong><br />\nHigh Sierra Music Festival &bull\; Hangtown Music Festival &bull\; Golden Road Gathering &bull\; Backcountry Festival &bull\; Harvey&rsquo\;s Outdoor Arena &bull\; Lake Tahoe concert series &bull\; Sold-out local shows</p>\n\n<p><strong>Community-Minded</strong><br />\nCommunity is central to Mescalito&rsquo\;s mission. The band frequently supports fundraisers and socially conscious events and regularly collaborates with a vibrant circle of artists and longtime friends.</p>\n\n<p><strong>Sounds Like</strong><br />\nA soulful blend inspired by the Allman Brothers Band\, Rolling Stones\, Little Feat&mdash\;and a sound uniquely their own.</p>\n
LOCATION:Mountain Lotus Yoga Truckee
UID:e.2339.82949
SEQUENCE:3
DTSTAMP:20260421T233704Z
URL:http://chamber.sdbxstudio.com/events/details/mescalito-live-music-at-mountain-lotus-82949
END:VEVENT

END:VCALENDAR
