BEGIN:VCALENDAR
VERSION:2.0
PRODID:-//ChamberMaster//Event Calendar 2.0//EN
METHOD:PUBLISH
X-PUBLISHED-TTL:P3D
REFRESH-INTERVAL:P3D
CALSCALE:GREGORIAN
BEGIN:VEVENT
DTSTART:20250830T010000Z
DTEND:20250830T043000Z
X-MICROSOFT-CDO-ALLDAYEVENT:FALSE
SUMMARY:Music on the Beach and Drone Show
DESCRIPTION:Wrap up the Summer with Music on the Beach and Lights in the Sky Drone Show at Kings Beach.
X-ALT-DESC;FMTTYPE=text/html:Wrap up the Summer with <a href="https://www.tahoegetaways.com/events/family-events/music-beach-kings-beach">Music on the Beach</a> and <a href="http://www.tahoeeventscalendar.com/event/jelly-bread-music-on-the-beach/">Lights in the </a><a href="http://www.tahoegetaways.com/events/concerts/lights-sky-drone-show-kings-beach">Sky Drone Show</a> at Kings Beach.<br />\n&nbsp\;
LOCATION:Kings Beach State Recreation Area
UID:e.2339.81121
SEQUENCE:3
DTSTAMP:20260422T094131Z
URL:http://chamber.sdbxstudio.com/events/details/music-on-the-beach-and-drone-show-81121
END:VEVENT

END:VCALENDAR
