BEGIN:VCALENDAR
VERSION:2.0
PRODID:-//ChamberMaster//Event Calendar 2.0//EN
METHOD:PUBLISH
X-PUBLISHED-TTL:P3D
REFRESH-INTERVAL:P3D
CALSCALE:GREGORIAN
BEGIN:VEVENT
DTSTART:20260502T210000Z
DTEND:20260502T230000Z
X-MICROSOFT-CDO-ALLDAYEVENT:FALSE
SUMMARY:Musical Conversations with The California Guitar Trio
DESCRIPTION:Tahoe Music Alive offers the North Tahoe community a rare chance to hear about the very special guitars played by the three musicians in The California Guitar Trio. Hear about their careers\, their ensemble\, and experience one of the most innovative and enduring guitar ensembles in the world.\n\n\n\nSince forming in 1991\, The California Guitar Trio has forged a musical path that defies boundaries. Their sound seamlessly crisscrosses rock\, jazz\, classical\, and world music\, infused with unexpected detours into surf rock and spaghetti Western themes. The universe of guitar knows no boundaries for The California Guitar Trio. Their singular sound fearlessly crisscrosses genres between rock\, jazz\, classical\, and world music.
X-ALT-DESC;FMTTYPE=text/html:Tahoe Music Alive offers the North Tahoe community a rare chance to hear about the very special guitars played by the three musicians in The California Guitar Trio. Hear about their careers\, their ensemble\, and experience one of the most innovative and enduring guitar ensembles in the world.<br />\n<br />\nSince forming in 1991\, The California Guitar Trio has forged a musical path that defies boundaries. Their sound seamlessly crisscrosses rock\, jazz\, classical\, and world music\, infused with unexpected detours into surf rock and spaghetti Western themes. The universe of guitar knows no boundaries for The California Guitar Trio. Their singular sound fearlessly crisscrosses genres between rock\, jazz\, classical\, and world music.
LOCATION:Church of the Mountains
UID:e.2339.83190
SEQUENCE:3
DTSTAMP:20260421T200402Z
URL:http://chamber.sdbxstudio.com/events/details/musical-conversations-with-the-california-guitar-trio-83190
END:VEVENT

END:VCALENDAR
