BEGIN:VCALENDAR
VERSION:2.0
PRODID:-//ChamberMaster//Event Calendar 2.0//EN
METHOD:PUBLISH
X-PUBLISHED-TTL:P3D
REFRESH-INTERVAL:P3D
CALSCALE:GREGORIAN
BEGIN:VEVENT
DTSTART:20250814T000000Z
DTEND:20250814T020000Z
X-MICROSOFT-CDO-ALLDAYEVENT:FALSE
SUMMARY:PT Revolution Grand Opening & Ribbon Cutting
DESCRIPTION:Join us in celebrating PT Revolution's Grand Opening and Ribbon Cutting!\n\n\n\nWe're thrilled to welcome PT Revolution to the Truckee community. Come meet the team\, tour the new space\, and learn more about their unique approach to physical therapy and performance training. Enjoy refreshments from Starkey's Food Truck and network with fellow community members. Help us officially cut the ribbon on this exciting new business!\n\n\n\nThe Hub for Mountain Athletes!
X-ALT-DESC;FMTTYPE=text/html:<strong data-end="212" data-start="136">Join us in celebrating PT Revolution&rsquo\;s Grand Opening and Ribbon Cutting!</strong><br />\n<br data-end="215" data-start="212" />\nWe&rsquo\;re thrilled to welcome PT Revolution to the Truckee community. Come meet the team\, tour the new space\, and learn more about their unique approach to physical therapy and performance training. Enjoy refreshments from Starkey&#39\;s Food Truck and network with fellow community members. Help us officially cut the ribbon on this exciting new business!<br />\n<br />\nThe Hub for Mountain Athletes!
LOCATION:40173 Truckee Airport Rd Suite 102\, Truckee\, CA 96161
UID:e.2339.81057
SEQUENCE:3
DTSTAMP:20260422T094224Z
URL:http://chamber.sdbxstudio.com/events/details/pt-revolution-grand-opening-ribbon-cutting-81057
END:VEVENT

END:VCALENDAR
