BEGIN:VCALENDAR
VERSION:2.0
PRODID:-//ChamberMaster//Event Calendar 2.0//EN
METHOD:PUBLISH
X-PUBLISHED-TTL:P3D
REFRESH-INTERVAL:P3D
CALSCALE:GREGORIAN
BEGIN:VEVENT
DTSTART:20281117T013000Z
DTEND:20281117T043000Z
X-MICROSOFT-CDO-ALLDAYEVENT:FALSE
SUMMARY:Soroptishop Holiday Artisan & Craft Faire
DESCRIPTION:Soroptimist of Truckee Donner is continuing our tradition of hosting our Soroptishop Holiday Artisan Faire. Start your shopping early for local artwork\, jewelry\, pottery\, clothes\, cosmetics\, herbals\, handcrafts\, hand blown glass and much more! Over 50 local and small business artisans participating.\n\n\n\nTickets for our in person portion can be purchased in advance HERE.\n\n\n\n\n\nAll ticket sales to benefit our local community through Soroptimist International of Truckee Donner!
X-ALT-DESC;FMTTYPE=text/html:<p>Soroptimist of Truckee Donner is continuing our tradition of hosting our Soroptishop Holiday Artisan Faire. Start your shopping early for local artwork\, jewelry\, pottery\, clothes\, cosmetics\, herbals\, handcrafts\, hand blown glass and much more! Over 50 local and small business artisans participating.</p>\n\n<p><br />\nTickets for our in person portion can be purchased in advance&nbsp\;<a class="btn btn-large btn-inline btn-color1 color1text" href="https://e.givesmart.com/s/:96z2B_O-CAW/e/KQo/page/tickets/" style="text-decoration-line: none\; color: rgb(255\, 255\, 255)\; touch-action: manipulation\; box-sizing: border-box\; user-select: none\; display: inline-block\; background-image: initial\; background-position: initial\; background-size: initial\; background-repeat: initial\; background-attachment: initial\; background-origin: initial\; background-clip: initial\; text-align: center\; margin-top: 0px\; margin-right: inherit\; margin-bottom: 4px\; margin-left: inherit\; padding: 10px 18px\; border-radius: 4px\; width: auto\; height: auto\; line-height: inherit\; transition: filter 0.25s ease-in-out\; border-top: none\; border-right: none\; border-left: none\; border-image: initial\; font-size: 16px\; float: none\; border-bottom: none !important\; outline: none !important\;"><span style="background-color:#0000FF">HERE.</span></a></p>\n\n<p><br />\n<br />\nAll ticket sales to benefit our local community through Soroptimist International of Truckee Donner!<br />\n&nbsp\;</p>\n\n<div>&nbsp\;</div>\n
LOCATION:Steve Randall Community Recreation Center - Truckee
UID:e.2339.81147
SEQUENCE:3
DTSTAMP:20260425T162518Z
URL:http://chamber.sdbxstudio.com/events/details/soroptishop-holiday-artisan-craft-faire-11-16-2028-81147
END:VEVENT

END:VCALENDAR
