BEGIN:VCALENDAR
VERSION:2.0
PRODID:-//ChamberMaster//Event Calendar 2.0//EN
METHOD:PUBLISH
X-PUBLISHED-TTL:P3D
REFRESH-INTERVAL:P3D
CALSCALE:GREGORIAN
BEGIN:VEVENT
DTSTART:20250831T070000Z
DTEND:20250831T070000Z
X-MICROSOFT-CDO-ALLDAYEVENT:FALSE
SUMMARY:Summer Dinner with Lost Sierra Wine at Stella
DESCRIPTION:Join us for a special evening under the pines with our curated prefixed dinner experience\, complete with thoughtfully paired wines from Lost Sierra Wine Co. The evening kicks off with a casual reception in the bocce ball area\, followed by a multi-course dining experience set against the serene Tahoe backdrop.\n\nEvent Timeline:\n\n\n	6:30 PM   Guest Arrival & Welcome Reception in the Bocce Ball Area\n	7:00 PM   Guests Seated | First Course Served\n	Courses will continue throughout the evening\n	9:30 PM   Event Concludes\n\n\nTime: Sunday\, August 31\, 2025\, at 6:30 pm PST
X-ALT-DESC;FMTTYPE=text/html:<p>Join us for a special evening under the pines with our curated prefixed dinner experience\, complete with thoughtfully paired wines from Lost Sierra Wine Co. The evening kicks off with a casual reception in the bocce ball area\, followed by a multi-course dining experience set against the serene Tahoe backdrop.</p>\n\n<p><strong>Event Timeline:</strong></p>\n\n<ul>\n	<li><strong>6:30 PM</strong>&nbsp\;&ndash\; Guest Arrival &amp\; Welcome Reception in the Bocce Ball Area</li>\n	<li><strong>7:00 PM</strong>&nbsp\;&ndash\; Guests Seated | First Course Served</li>\n	<li><strong>Courses</strong>&nbsp\;will continue throughout the evening</li>\n	<li><strong>9:30 PM</strong>&nbsp\;&ndash\; Event Concludes</li>\n</ul>\n\n<p><em><strong>Time</strong></em><em>: Sunday\, August 31\, 2025\, at 6:30 pm PST</em></p>\n
LOCATION:Stella Truckee at Gravity Haus
UID:e.2339.81101
SEQUENCE:3
DTSTAMP:20260422T094047Z
URL:http://chamber.sdbxstudio.com/events/details/summer-dinner-with-lost-sierra-wine-at-stella-81101
END:VEVENT

END:VCALENDAR
