BEGIN:VCALENDAR
VERSION:2.0
PRODID:-//ChamberMaster//Event Calendar 2.0//EN
METHOD:PUBLISH
X-PUBLISHED-TTL:P3D
REFRESH-INTERVAL:P3D
CALSCALE:GREGORIAN
BEGIN:VEVENT
DTSTART:20250831T000000Z
DTEND:20250831T030000Z
X-MICROSOFT-CDO-ALLDAYEVENT:FALSE
SUMMARY:Summer Music Series and Roller Skating
DESCRIPTION:An evening of live Music and Roller Skating under the starts at Northstar Village.
X-ALT-DESC;FMTTYPE=text/html:An evening of live<a href="http://www.northstarcalifornia.com/explore-the-resort/activities-and-events/events-detail.aspx?id=%7B04ea702c-7b73-4f27-b804-dd08bc9200fd%7D"> Music and Roller Skating</a> under the starts at Northstar Village.&nbsp\;
LOCATION:Northstar Village
UID:e.2339.81122
SEQUENCE:3
DTSTAMP:20260422T094100Z
URL:http://chamber.sdbxstudio.com/events/details/summer-music-series-and-roller-skating-81122
END:VEVENT

END:VCALENDAR
