BEGIN:VCALENDAR
VERSION:2.0
PRODID:-//ChamberMaster//Event Calendar 2.0//EN
METHOD:PUBLISH
X-PUBLISHED-TTL:P3D
REFRESH-INTERVAL:P3D
CALSCALE:GREGORIAN
BEGIN:VEVENT
DTSTART:20260616T003000Z
DTEND:20260616T033000Z
X-MICROSOFT-CDO-ALLDAYEVENT:FALSE
SUMMARY:Sunset Kayak Tours - Available Daily
DESCRIPTION:Experience the beauty of the sunset from a kayak. As the sun sets\, watch the Sierra Nevada's come alive in magnificent colors. As you embark on your journey\, your guide will provide insights into the natural and human history of the area\, making for an educational and enriching experience.\n\n\n\nThe tour will take you just the right distance to appreciate the stunning sunset and watch for the first stars to come out. Then arrive at our serene beach where you can drink a warm beverage and take in the breathtaking views of the night sky. This tour is perfect for families and single travelers seeking a peaceful escape from their daily routine and a chance to connect with nature in one of California's most beautiful destinations. Sunset Kayak Tours are offered daily May - October\, weather permitting. Times vary based on sunset.
X-ALT-DESC;FMTTYPE=text/html:Experience the beauty of the sunset from a kayak. As the sun sets\, watch the Sierra Nevada&#39\;s come alive in magnificent colors. As you embark on your journey\, your guide will provide insights into the natural and human history of the area\, making for an educational and enriching experience.<br />\n<br />\nThe tour will take you just the right distance to appreciate the stunning sunset and watch for the first stars to come out. Then arrive at our serene beach where you can drink a warm beverage and take in the breathtaking views of the night sky. This tour is perfect for families and single travelers seeking a peaceful escape from their daily routine and a chance to connect with nature in one of California&#39\;s most beautiful destinations. Sunset Kayak Tours are offered daily May - October\, weather permitting. Times vary based on sunset.
LOCATION:Tahoe Adventure Company Tahoe Vista Recreation Area 7010 North Lake Blvd Tahoe Vista\, CA 96148
UID:e.2339.83646
SEQUENCE:3
DTSTAMP:20260421T195937Z
URL:http://chamber.sdbxstudio.com/events/details/sunset-kayak-tours-available-daily-06-15-2026-83646
END:VEVENT

END:VCALENDAR
