BEGIN:VCALENDAR
VERSION:2.0
PRODID:-//ChamberMaster//Event Calendar 2.0//EN
METHOD:PUBLISH
X-PUBLISHED-TTL:P3D
REFRESH-INTERVAL:P3D
CALSCALE:GREGORIAN
BEGIN:VEVENT
DTSTART:20241004T003000Z
DTEND:20241004T030000Z
X-MICROSOFT-CDO-ALLDAYEVENT:FALSE
SUMMARY:Truckee 2024 Candidate Forum Night Two
DESCRIPTION:The Truckee Chamber of Commerce\, in partnership with the Contractors Association of Truckee Tahoe Political Action Committee (CATT-PAC)\, the Tahoe Sierra Board of Realtors\, Tahoe Truckee Media\, Moonshine Ink\, and the Sierra Sun\, is excited to announce the 2024 Candidate Forum. This event is designed to empower Truckee voters with the knowledge and tools they need to make informed decisions in the upcoming election.\n\n \nThursday\, October 3rd\, will spotlight candidates running for the Truckee Sanitary District and the Truckee Donner Public Utility District. Additionally\, students from Truckee High School will present pro and con statements on Ballot Measure E\, the Town of Truckee Essential Services Tax Measure. For the Truckee Sanitary District\, one seat is open with three candidates running. The Truckee Donner Public Utility District Board has three open seats\, with seven candidates in the race.\n\n\nThis event is free and open to the public
X-ALT-DESC;FMTTYPE=text/html:<span id="docs-internal-guid-6ec9f765-7fff-71ad-727b-5da69b896f21"><span style="font-size: 11pt\; font-family: Calibri\, sans-serif\; color: rgb(0\, 0\, 0)\; background-color: transparent\; font-variant-numeric: normal\; font-variant-east-asian: normal\; font-variant-alternates: normal\; font-variant-position: normal\; vertical-align: baseline\; white-space-collapse: preserve\;">&nbsp\;The Truckee Chamber of Commerce\, in partnership with the Contractors Association of Truckee Tahoe Political Action Committee (CATT-PAC)\, the Tahoe Sierra Board of Realtors\, Tahoe Truckee Media\, Moonshine Ink\, and the Sierra Sun\, is excited to announce the 2024 Candidate Forum. This event is designed to empower Truckee voters with the knowledge and tools they need to make informed decisions in the upcoming election.</span></span><br />\n&nbsp\;\n<p dir="ltr" style="line-height:1.3800000000000001\;margin-top:0pt\;margin-bottom:0pt\;"><span id="docs-internal-guid-a1a9c202-7fff-7bad-5792-6c28a36fc3e5"><span style="font-size: 11pt\; font-family: Calibri\, sans-serif\; color: rgb(0\, 0\, 0)\; background-color: transparent\; font-variant-numeric: normal\; font-variant-east-asian: normal\; font-variant-alternates: normal\; font-variant-position: normal\; vertical-align: baseline\; white-space-collapse: preserve\;">Thursday\, October 3rd\, will spotlight candidates running for the Truckee Sanitary District and the Truckee Donner Public Utility District. Additionally\, students from Truckee High School will present pro and con statements on Ballot Measure E\, the Town of Truckee Essential Services Tax Measure. For the Truckee Sanitary District\, one seat is open with three candidates running. The Truckee Donner Public Utility District Board has three open seats\, with seven candidates in the race.</span></span></p>\n<br />\n<span id="docs-internal-guid-6b823f55-7fff-b7c6-23ff-ece7d55d31e5"><span style="font-size: 11pt\; font-family: Calibri\, sans-serif\; color: rgb(0\, 0\, 0)\; background-color: transparent\; font-variant-numeric: normal\; font-variant-east-asian: normal\; font-variant-alternates: normal\; font-variant-position: normal\; vertical-align: baseline\; white-space-collapse: preserve\;">This event is free and open to the public </span></span>
LOCATION:Truckee Town Hall Town Council Chambers 10183 Truckee Airport Road Truckee\, CA 96161
UID:e.2339.78623
SEQUENCE:3
DTSTAMP:20260423T023755Z
URL:http://chamber.sdbxstudio.com/events/details/truckee-2024-candidate-forum-night-two-78623
END:VEVENT

END:VCALENDAR
