BEGIN:VCALENDAR
VERSION:2.0
PRODID:-//ChamberMaster//Event Calendar 2.0//EN
METHOD:PUBLISH
X-PUBLISHED-TTL:P3D
REFRESH-INTERVAL:P3D
CALSCALE:GREGORIAN
BEGIN:VEVENT
DTSTART:20250820T170000Z
DTEND:20250820T180000Z
X-MICROSOFT-CDO-ALLDAYEVENT:FALSE
SUMMARY:Truckee Chamber Government Action Committee Meeting
DESCRIPTION:Join the Truckee Chamber of Commerce for our next Government Action Committee on Wednesday\, August 20 at 10:00 a.m. We will be joined by Tahoe Truckee Unified School District Superintendent Kerstin Kramer.  \n\n\n\nFor more information or to RSVP\, email Jessica at jessica@truckee.com\n\n\n\nThis is a members only event.
X-ALT-DESC;FMTTYPE=text/html:<p dir="ltr"><br />\nJoin the Truckee Chamber of Commerce for&nbsp\;our next Government Action Committee on Wednesday\, August 20 at 10:00 a.m. We will be joined by Tahoe Truckee Unified School District Superintendent Kerstin Kramer.&nbsp\;&nbsp\;<br />\n<br />\nFor more information or to RSVP\, email Jessica at <a data-link-type="email" href="mailto:jessica@truckee.com" rel="noopener noreferrer" target="_blank">jessica@truckee.com</a><br />\n<br />\n<span font-size:="" helvetica="" letter-spacing:="" style="color: rgb(93\, 95\, 94)\; font-family: Roboto\, "><strong>This is a members only event.&nbsp\;</strong></span></p>\n
LOCATION:Truckee Town Hall Trout Creek Room
UID:e.2339.81062
SEQUENCE:3
DTSTAMP:20260422T095137Z
URL:http://chamber.sdbxstudio.com/events/details/truckee-chamber-government-action-committee-meeting-81062
END:VEVENT

END:VCALENDAR
