BEGIN:VCALENDAR
VERSION:2.0
PRODID:-//ChamberMaster//Event Calendar 2.0//EN
METHOD:PUBLISH
X-PUBLISHED-TTL:P3D
REFRESH-INTERVAL:P3D
CALSCALE:GREGORIAN
BEGIN:VEVENT
DTSTART:20161226T200000Z
DTEND:20170101T100000Z
X-MICROSOFT-CDO-ALLDAYEVENT:FALSE
SUMMARY:Truckee FREE Holiday Shuttle - Dec. 26 - New Years Eve
DESCRIPTION:Getting from Truckee neighborhoods\, Northstar\, and Squaw Valley to and from downtown Truckee during the holidays this year just got a-whole lot easier with FREE shuttle service thanks to the Town of Truckee along with many community sponsorships! Residents and visitors alike can forget the traffic and parking hassles\, by LEAVING the CAR BEHIND this holiday season\, allowing everyone to enjoy one of Truckee's most festive times of the year!\n\n \n\nVIEW ROUTE MAP\n\n\n\n VIEW SCHEDULE  \n\n\nBeginning December 26\, 2016 and running through December 31\, 2016 (New Year's Eve)\, FREE and convenient shuttles will be traveling to and from Downtown Truckee from the local neighborhoods\, Squaw Valley\, and Northstar.  \n\n	FREE neighborhood shuttles will be providing service to/from Downtown Truckee between 12pm and 2:00am daily. The neighborhood shuttles will service the following destinations: Donner Lake\, Sierra Meadows\, Brockway\, Prosser\, Tahoe Donner and Glenshire.\n	Connections between the neighborhood and resort shuttles can be made in Downtown Truckee at the Truckee Train Depot.\n	FREE nightly resort shuttles will be providing service to/from Downtown Truckee to Northstar and Squaw Valley between 6pm and 2:00am daily.\n	Connections between holiday shuttle routes and TART daytime service can be made daily at the Truckee Train Depot. Connections between holiday shuttle routes and TART's free night service can be made nightly at Northstar and Squaw Valley.
X-ALT-DESC;FMTTYPE=text/html:<p>Getting from Truckee neighborhoods\, Northstar\, and Squaw Valley to and from downtown Truckee during the holidays this year just got a-whole lot easier with FREE shuttle service thanks to the Town of Truckee along with many community sponsorships! Residents and visitors alike can forget the traffic and parking hassles\, by LEAVING the CAR BEHIND this holiday season\, allowing everyone to enjoy one of Truckee&rsquo\;s most festive times of the year!</p>\n\n<p>&nbsp\;</p>\n\n<div style="text-align: center\;"><strong><a href="https://chambermaster.blob.core.windows.net/userfiles/UserFiles/chambers/2339/File/holiday-map.jpg"><span style="color:#FF0000\;">VIEW ROUTE MAP</span></a><br />\n<br />\n<a href="https://chambermaster.blob.core.windows.net/userfiles/UserFiles/chambers/2339/File/RouteSched.jpg"><span style="color:#FF0000\;">&#8203\;VIEW SCHEDULE&nbsp\;</span></a><span style="color:#FF0000\;"> </span></strong></div>\n<br />\nBeginning December 26\, 2016 and running through December 31\, 2016 (New Year&rsquo\;s Eve)\, FREE and convenient shuttles will be traveling to and from Downtown Truckee from the local neighborhoods\, Squaw Valley\, and Northstar. &nbsp\;\n<ul>\n	<li>FREE neighborhood shuttles will be providing service to/from Downtown Truckee between 12pm and 2:00am daily. The neighborhood shuttles will service the following destinations: Donner Lake\, Sierra Meadows\, Brockway\, Prosser\, Tahoe Donner and Glenshire.</li>\n	<li>Connections between the neighborhood and resort shuttles can be made in Downtown Truckee at the Truckee Train Depot.</li>\n	<li>FREE nightly resort shuttles will be providing service to/from Downtown Truckee to Northstar and Squaw Valley between 6pm and 2:00am daily.</li>\n	<li>Connections between holiday shuttle routes and TART daytime service can be made daily at the Truckee Train Depot. Connections between holiday shuttle routes and TART&rsquo\;s free night service can be made nightly at Northstar and Squaw Valley.</li>\n</ul>\n
LOCATION:Truckee neighborhoods\, Northstar\, and Squaw Valley to and from downtown Truckee
UID:e.2339.5082
SEQUENCE:3
DTSTAMP:20260419T124916Z
URL:http://chamber.sdbxstudio.com/events/details/truckee-free-holiday-shuttle-dec-26-new-years-eve-5082
END:VEVENT

END:VCALENDAR
