BEGIN:VCALENDAR
VERSION:2.0
PRODID:-//ChamberMaster//Event Calendar 2.0//EN
METHOD:PUBLISH
X-PUBLISHED-TTL:P3D
REFRESH-INTERVAL:P3D
CALSCALE:GREGORIAN
BEGIN:VEVENT
DTSTART;VALUE=DATE:20250809
DTEND;VALUE=DATE:20250811
TRANSP:TRANSPARENT
X-MICROSOFT-CDO-ALLDAYEVENT:TRUE
SUMMARY:Truckee Music Fest
DESCRIPTION:Come to Truckee Music Fest and enjoy artists you never thought would come to Truckee in an amazing festival setting.\n\n\n\nIn partnership with Truckee Donner Recreation and Park District\, the festival kicks off two nights of live music\, with an up close and personal music experience against the stunning Truckee Riverview Sports Park backdrop of the Sierra Nevada Mountains. \n\n\n\nThe Friday lineup includes headliner Jason Derulo\, Big Boi\, Maryjo\, Local Anthology\, and the Haze. \n\n\n\nSaturday's headliner is X Ambassadors along with Sugar Ray\, Better than Ezra\, The Knocks\, Gloomy June\, and Black Sunshine.\n\n\n\nThere will be food\, beverage\, and merch vendors\, DJ Rhino playing from the spectacular lighted Golden Gate Art Car\, a discount voucher for food if you ride your bike\, and much more!\n\n\n\nTickets available for the entire festival\, or you can buy one-night tickets. Or go big and get VIP with private food and beverage areas. Buy your tickets in Truckee without fees at Mountain Brew\, 12373 Donner Pass Rd. or at Zander's The Bottle Shop\, 12047 Donner Pass Rd\, or purchase tickets online.
X-ALT-DESC;FMTTYPE=text/html:Come to Truckee Music Fest and enjoy artists you never thought would come to Truckee in an amazing festival setting.<br />\n<br />\nIn partnership with Truckee Donner Recreation and Park District\, the festival kicks off two nights of live music\, with an up close and personal music experience against the stunning Truckee Riverview Sports Park backdrop of the Sierra Nevada Mountains.&nbsp\;<br />\n<br />\nThe Friday lineup includes headliner Jason Derulo\, Big Boi\, Maryjo\, Local Anthology\, and the Haze.&nbsp\;<br />\n<br />\nSaturday&#39\;s headliner is X Ambassadors along with Sugar Ray\, Better than Ezra\, The Knocks\, Gloomy June\, and Black Sunshine.<br />\n<br />\nThere will be food\, beverage\, and merch vendors\, DJ Rhino playing from the spectacular lighted Golden Gate Art Car\, a discount voucher for food if you ride your bike\, and much more!<br />\n<br />\nTickets available for the entire festival\, or you can buy one-night tickets. Or go big and get VIP with private food and beverage areas. Buy your tickets in Truckee without fees at Mountain Brew\, 12373 Donner Pass Rd. or at Zander&#39\;s The Bottle Shop\, 12047 Donner Pass Rd\, or purchase tickets online.&nbsp\;
LOCATION:Riverview Sports Park
UID:e.2339.81060
SEQUENCE:3
DTSTAMP:20260422T113207Z
URL:http://chamber.sdbxstudio.com/events/details/truckee-music-festival-08-09-2025-81060
END:VEVENT

END:VCALENDAR
