BEGIN:VCALENDAR
VERSION:2.0
PRODID:-//ChamberMaster//Event Calendar 2.0//EN
METHOD:PUBLISH
X-PUBLISHED-TTL:P3D
REFRESH-INTERVAL:P3D
CALSCALE:GREGORIAN
BEGIN:VEVENT
DTSTART:20250802T010000Z
DTEND:20250802T020000Z
X-MICROSOFT-CDO-ALLDAYEVENT:FALSE
SUMMARY:Why Music Matters - Free Lecture Series
DESCRIPTION:Please join MusicWings for their first Friday montly lecture series to learn from music scholars\, educators\, professional musicians\, and community members.
X-ALT-DESC;FMTTYPE=text/html:Please join MusicWings for their first Friday montly lecture series to learn from music scholars\, educators\, professional musicians\, and community members.<br />\n&nbsp\;
LOCATION:Little Bird Music
UID:e.2339.79468
SEQUENCE:3
DTSTAMP:20260422T094934Z
URL:http://chamber.sdbxstudio.com/events/details/why-music-matters-free-lecture-series-08-01-2025-79468
END:VEVENT

END:VCALENDAR
