BEGIN:VCALENDAR
VERSION:2.0
PRODID:-//ChamberMaster//Event Calendar 2.0//EN
METHOD:PUBLISH
X-PUBLISHED-TTL:P3D
REFRESH-INTERVAL:P3D
CALSCALE:GREGORIAN
BEGIN:VEVENT
DTSTART:20251004T010000Z
DTEND:20251004T020000Z
X-MICROSOFT-CDO-ALLDAYEVENT:FALSE
SUMMARY:Why Music Matters - Free Lecture Series
DESCRIPTION:Please join MusicWings for their first Friday montly lecture series to learn from music scholars\, educators\, professional musicians\, and community members.
X-ALT-DESC;FMTTYPE=text/html:Please join MusicWings for their first Friday montly lecture series to learn from music scholars\, educators\, professional musicians\, and community members.<br />\n&nbsp\;
LOCATION:Little Bird Music
UID:e.2339.79470
SEQUENCE:3
DTSTAMP:20260422T080136Z
URL:http://chamber.sdbxstudio.com/events/details/why-music-matters-free-lecture-series-10-03-2025-79470
END:VEVENT

END:VCALENDAR
