BEGIN:VCALENDAR
VERSION:2.0
PRODID:-//ChamberMaster//Event Calendar 2.0//EN
METHOD:PUBLISH
X-PUBLISHED-TTL:P3D
REFRESH-INTERVAL:P3D
CALSCALE:GREGORIAN
BEGIN:VEVENT
DTSTART:20250830T233000Z
DTEND:20250831T023000Z
X-MICROSOFT-CDO-ALLDAYEVENT:FALSE
SUMMARY:Wild West Fest
DESCRIPTION:Grab your cowboy hat and boots and join the fun at the 6th Annual Wild West Fest!  Enjoy a taste of the old frontier with ranch-style BBQ\, live music\, equestrian performances\, pony rides\, a petting zoo\, facepainting and other Western -inspired activities.
X-ALT-DESC;FMTTYPE=text/html:Grab your cowboy hat and boots and join the fun at the 6th Annual Wild West Fest!&nbsp\; Enjoy a taste of the old frontier with ranch-style BBQ\, live music\, equestrian performances\, pony rides\, a petting zoo\, facepainting and other Western -inspired activities.
LOCATION:the Equestrian Center in Tahoe Donner
UID:e.2339.81123
SEQUENCE:3
DTSTAMP:20260422T093727Z
URL:http://chamber.sdbxstudio.com/events/details/wild-west-fest-81123
END:VEVENT

END:VCALENDAR
